BEGIN:VCALENDAR
VERSION:2.0
PRODID:-//ChamberMaster//Event Calendar 2.0//EN
METHOD:PUBLISH
X-PUBLISHED-TTL:P3D
REFRESH-INTERVAL:P3D
CALSCALE:GREGORIAN
BEGIN:VEVENT
DTSTART;VALUE=DATE:20230901
DTEND;VALUE=DATE:20230927
TRANSP:TRANSPARENT
X-MICROSOFT-CDO-ALLDAYEVENT:TRUE
SUMMARY:2024 Harbor Country Guide Inside Back Cover Ad Drawing
DESCRIPTION:Artwork Deadline: February 15\, 2024\n	Artwork submission direct email: ads@fusiondg.com\n	Ad artwork is provided by advertiser\n	Spec Guideline PDF: LINK \n	\n	Artwork size:\n\n	Full Page Ad size: 8.375w x 10.875h then add .125" bleed on all sides.\n\n	Book Trim size is 8.375w x 10.875h\n\n	Safe area for text/elements: 7.625"w x 10"h (make sure any text does not fall outside of this area)\n\n	This ensures when the page is cut that text is not lost.
X-ALT-DESC;FMTTYPE=text/html:<ul style="box-sizing: border-box\; margin-top: 0px\; margin-bottom: 10px\; color: rgb(64\, 64\, 63)\; font-family: Montserrat\, sans-serif\; font-size: 16px\;">\n	<li style="box-sizing: border-box\;">Artwork Deadline: February 15\, 2024</li>\n	<li style="box-sizing: border-box\;">Artwork submission direct email: ads@fusiondg.com</li>\n	<li style="box-sizing: border-box\;">Ad artwork is provided by advertiser</li>\n	<li style="box-sizing: border-box\;">Spec Guideline PDF: <a href="https://growthzonesitesprod.azureedge.net/wp-content/uploads/sites/1365/2020/10/Harbor-Country-Guide-Artwork-Submission-Guidelines.pdf">LINK</a>&nbsp\;</li>\n	<li style="box-sizing: border-box\;">\n	<p>Artwork size:</p>\n\n	<p>Full Page Ad size: 8.375w x 10.875h then add .125&rdquo\; bleed on all sides.<br />\n	Book Trim size is 8.375w x 10.875h<br />\n	Safe area for text/elements: 7.625&rdquo\;w x 10&rdquo\;h (make sure any text does not fall outside of this area)<br />\n	This ensures when the page is cut that text is not lost.</p>\n	</li>\n</ul>\n
LOCATION:
UID:e.3583.10180
SEQUENCE:3
DTSTAMP:20260423T162647Z
URL:https://business.harborcountry.org/events/details/2024-harbor-country-guide-inside-back-cover-ad-drawing-10180
END:VEVENT

END:VCALENDAR
