BEGIN:VCALENDAR
VERSION:2.0
PRODID:-//ChamberMaster//Event Calendar 2.0//EN
METHOD:PUBLISH
X-PUBLISHED-TTL:P3D
REFRESH-INTERVAL:P3D
CALSCALE:GREGORIAN
BEGIN:VEVENT
DTSTART:20260924T133000Z
DTEND:20260924T143000Z
X-MICROSOFT-CDO-ALLDAYEVENT:FALSE
SUMMARY:Aqua Yoga
DESCRIPTION:Experience the bliss of Aqua Yoga - a complete yoga practice in water. Through poses\, breathing\, meditation\, and relaxation\, Aqua Yoga empowers you to develop strength and balance and reduce pain while increasing your range of motion with minimal impact on joints. This practice warmly welcomes all\, regardless of prior yoga experience.
X-ALT-DESC;FMTTYPE=text/html:<span style="color:rgb(34\, 34\, 34)\; font-family:arial\,helvetica\,sans-serif\; font-size:large">Experience the bliss of Aqua Yoga - a complete yoga practice in water. Through poses\, breathing\, meditation\, and relaxation\, Aqua Yoga empowers you to develop strength and balance and reduce pain while increasing your range of motion with minimal impact on joints. This practice warmly welcomes all\, regardless of prior yoga experience.</span>
LOCATION:Bridgman Aquatic Center
UID:e.3583.12999
SEQUENCE:3
DTSTAMP:20260423T032835Z
URL:https://business.harborcountry.org/events/details/aqua-yoga-09-24-2026-12999
END:VEVENT

END:VCALENDAR
