BEGIN:VCALENDAR
VERSION:2.0
PRODID:-//ChamberMaster//Event Calendar 2.0//EN
METHOD:PUBLISH
X-PUBLISHED-TTL:P3D
REFRESH-INTERVAL:P3D
CALSCALE:GREGORIAN
BEGIN:VEVENT
DTSTART:20260121T230000Z
DTEND:20260122T000000Z
X-MICROSOFT-CDO-ALLDAYEVENT:FALSE
SUMMARY:Be a Winemaker
DESCRIPTION:Be a Winemaker for a Night. We're bringing the art of blending off the vineyard and into Local Pour. Join Dablon Vineyard & Winery for a hands-on experience where you'll taste\, learn\, and create your own custom wine blend just like we do behind the scenes.\n\nA relaxed\, guided evening designed for curious wine lovers no experience necessary. Spots are limited.
X-ALT-DESC;FMTTYPE=text/html:<span style="color: rgb(8\, 8\, 9)\; font-family: &quot\;Segoe UI Historic&quot\;\, &quot\;Segoe UI&quot\;\, Helvetica\, Arial\, sans-serif\; font-size: 16.875px\;">Be a Winemaker for a Night.&nbsp\;</span><span style="color: rgb(8\, 8\, 9)\; font-family: &quot\;Segoe UI Historic&quot\;\, &quot\;Segoe UI&quot\;\, Helvetica\, Arial\, sans-serif\; font-size: 16.875px\;">We&rsquo\;re bringing the art of blending off the vineyard and into Local Pour. Join Dablon Vineyard &amp\; Winery for a hands-on experience where you&rsquo\;ll taste\, learn\, and create your own custom wine blend&mdash\;just like we do behind the scenes.</span><br />\n<span style="color: rgb(8\, 8\, 9)\; font-family: &quot\;Segoe UI Historic&quot\;\, &quot\;Segoe UI&quot\;\, Helvetica\, Arial\, sans-serif\; font-size: 16.875px\; background-color: rgb(255\, 255\, 255)\;">A relaxed\, guided evening designed for curious wine lovers&mdash\;no experience necessary. Spots are limited.</span>
LOCATION:Local Pour 12857 Red Arrow Hwy Sawyer
UID:e.3583.20150
SEQUENCE:3
DTSTAMP:20260422T200552Z
URL:https://business.harborcountry.org/events/details/be-a-winemaker-20150
END:VEVENT

END:VCALENDAR
