BEGIN:VCALENDAR
VERSION:2.0
PRODID:-//ChamberMaster//Event Calendar 2.0//EN
METHOD:PUBLISH
X-PUBLISHED-TTL:P3D
REFRESH-INTERVAL:P3D
CALSCALE:GREGORIAN
BEGIN:VEVENT
DTSTART;VALUE=DATE:20260116
DTEND;VALUE=DATE:20260117
TRANSP:TRANSPARENT
X-MICROSOFT-CDO-ALLDAYEVENT:TRUE
SUMMARY:Brewster's Chef-Driven Dinner
DESCRIPTION:Step right up for a one-night-only culinary experience at Brewster's New Buffalo! This Fair-Themed Special Chef Dinner brings elevated twists on classic fair favorites crafted with Brewster's signature creativity and flavor.\n\n\n\nLimited seating.  Call for reservations.
X-ALT-DESC;FMTTYPE=text/html:<span style="font-size:16px\;"><span style="font-family:verdana\;">Step right up for a one-night-only culinary experience at Brewster&rsquo\;s New Buffalo! This Fair-Themed Special Chef Dinner&nbsp\;brings elevated twists on classic fair favorites crafted with Brewster&rsquo\;s signature creativity and flavor.<br />\n<br />\nLimited seating.&nbsp\; Call for reservations.</span></span>
LOCATION:11 W. Merchant Street New Buffalo
UID:e.3583.20450
SEQUENCE:3
DTSTAMP:20260422T195040Z
URL:https://business.harborcountry.org/events/details/brewster-s-chef-driven-dinner-20450
END:VEVENT

END:VCALENDAR
