BEGIN:VCALENDAR
VERSION:2.0
PRODID:-//ChamberMaster//Event Calendar 2.0//EN
METHOD:PUBLISH
X-PUBLISHED-TTL:P3D
REFRESH-INTERVAL:P3D
CALSCALE:GREGORIAN
BEGIN:VEVENT
DTSTART:20260124T230000Z
DTEND:20260125T030000Z
X-MICROSOFT-CDO-ALLDAYEVENT:FALSE
SUMMARY:Burns Night At Journeyman Distillery
DESCRIPTION:A Supper of Celebration\n\nWe invite you to the Featherbone Factory for a candlelit evening celebrating Scotland's national poet\, Robert Burns. Live bagpipes\, poetry\, and plenty of cheer set the stage for this winter night full of flavor and tradition.\n\nOur annual Burns Night Supper will bring you a feast of hearty soup\, haggis\, and neeps and tatties\, all paired with rare whiskeys crafted right here at Journeyman. Raise your glass\, share a toast\, and sing along to Auld Lang Syne as we celebrate the Bard in style.\n\nAppetite required\, Tartan optional. A seat and a dram are waiting for you inside   Tickets On Sale!\n\nEach reservation includes a 200mL bottle of Silver Cross Four Grain Whiskey.
X-ALT-DESC;FMTTYPE=text/html:<div>\n<div>\n<h3>A Supper of Celebration</h3>\n\n<p>We invite you to the Featherbone Factory for a candlelit evening celebrating Scotland&rsquo\;s national poet\, Robert Burns. Live bagpipes\, poetry\, and plenty of cheer set the stage for this winter night full of flavor and tradition.</p>\n\n<p>Our annual Burns Night Supper will bring you a feast of hearty soup\, haggis\, and neeps and tatties\, all paired with rare whiskeys crafted right here at Journeyman. Raise your glass\, share a toast\, and sing along to&nbsp\;<em>Auld Lang Syne</em>&nbsp\;as we celebrate the Bard in style.</p>\n\n<p>Appetite required\, Tartan optional. A seat and a dram are waiting for you inside &ndash\;&nbsp\;Tickets On Sale!</p>\n\n<p><em>Each reservation includes a 200mL bottle of Silver Cross Four Grain Whiskey.</em></p>\n</div>\n</div>\n
LOCATION:Journeyman Distillery at the Featherbone Factory 109 Generations Drive\, Three Oaks\, United States
UID:e.3583.20145
SEQUENCE:3
DTSTAMP:20260422T182712Z
URL:https://business.harborcountry.org/events/details/burns-night-at-journeyman-distillery-20145
END:VEVENT

END:VCALENDAR
