BEGIN:VCALENDAR
VERSION:2.0
PRODID:-//ChamberMaster//Event Calendar 2.0//EN
METHOD:PUBLISH
X-PUBLISHED-TTL:P3D
REFRESH-INTERVAL:P3D
CALSCALE:GREGORIAN
BEGIN:VEVENT
DTSTART:20260314T230000Z
DTEND:20260315T010000Z
X-MICROSOFT-CDO-ALLDAYEVENT:FALSE
SUMMARY:Char Jones & The Freedom Band
DESCRIPTION:The Box Factory for the Arts presents Char Jones & The Freedom Band on Saturday\, March 14\, 7-9PM. Guests can expect a soulful evening with Char's original music as well as fan favorites by artists such as Whitney Houston\, Michael Jackson\, Aretha Franklin\, The Beatles\, and more. So get ready to be moved "in the moment" and groove all the way home!\n\n\n\nTickets are $20 for cabaret seating and $15 general admission at ticketstripe.com/charjones\, or $20 at the door. Free admission for children 12 and under. A cash bar will be available. \n\n \n\nChar Jones's music styling "reflects the essence of [her] soulful gospel roots\, jazz influence\, and inspirational mission." She says\, "Writing music allows me to put my life story to a melody line\," and promises "a soul-stirring evening of music." Chicago-based Jones describes herself as "singer\, songwriter\, recording artist\, mental health advocate\, thinker\, champion for literacy\, and motivator." The band includes: Char Jones (vocals)\, Roy Payne (keys)\, and William "Lil Will" Jones (drums). A big thank you to Honor Credit Union for supporting concerts like this as a Main Stage Community sponsor!  \n\n\n\nFor more on this and other Box Factory events\, visit the Box at boxfactoryforthearts.org or be a friend on Facebook.
X-ALT-DESC;FMTTYPE=text/html:<p><span style="font-family:times new roman\,serif\; font-size:12pt">The Box Factory for the Arts presents&nbsp\;</span><span style="background-color:transparent\; font-family:times new roman\,serif\; font-size:12pt">Char Jones &amp\; The Freedom Band&nbsp\;</span><span style="font-family:times new roman\,serif\; font-size:12pt">on Saturday\, March 14\, 7-9PM.&nbsp\;</span><span style="background-color:transparent\; font-family:times new roman\,serif\; font-size:12pt">Guests can expect a soulful evening with Char&#39\;s original music as well as fan favorites by artists such as Whitney Houston\, Michael Jackson\, Aretha Franklin\, The Beatles\, and more. So get ready to be moved &quot\;in the moment&quot\; and groove all the way home!</span><br />\n<br />\n<span style="background-color:transparent\; font-family:times new roman\,serif\; font-size:12pt">Tickets are $20 for cabaret seating and $15 general admission at&nbsp\;</span><a href="https://ticketstripe.com/charjones" style="color: rgb(17\, 85\, 204)\; text-decoration-line: none\;" target="_blank"><span style="background-color:transparent\; font-family:times new roman\,serif\; font-size:12pt">ticketstripe.com/charjones</span></a><span style="background-color:transparent\; font-family:times new roman\,serif\; font-size:12pt">\, or $20 at the door. Free admission for children 12 and under. A cash bar will be available.&nbsp\;</span></p>\n\n<p>&nbsp\;</p>\n\n<p><span style="background-color:transparent\; font-family:times new roman\,serif\; font-size:12pt">Char Jones&#39\;s music styling &quot\;reflects the essence of [her] soulful gospel roots\, jazz influence\, and inspirational mission.&quot\; She says\, &quot\;Writing music allows me to put my life story to a melody line\,&quot\; and promises &quot\;a soul-stirring evening of music.&rdquo\; Chicago-based Jones describes herself as &quot\;singer\, songwriter\, recording artist\, mental health advocate\, thinker\, champion for literacy\, and motivator.&quot\;&nbsp\;</span><span style="background-color:transparent\; font-family:times new roman\,serif\; font-size:12pt">The band includes: Char Jones (vocals)\, Roy Payne (keys)\, and William &quot\;Lil Will&quot\; Jones (drums).&nbsp\;</span><span style="color:rgb(20\, 22\, 23)\; font-family:times new roman\,serif\; font-size:12pt">A big thank you to Honor Credit Union for supporting concerts like this as</span><span style="background-color:transparent\; color:rgb(20\, 22\, 23)\; font-family:times new roman\,serif\; font-size:12pt">&nbsp\;a Main Stage Community sponsor!&nbsp\;</span>&nbsp\;<br />\n<br />\n<span style="color:rgb(20\, 22\, 23)\; font-family:times new roman\,serif\; font-size:12pt">For more on this and other Box Factory events\, visit the Box at</span><span style="background-color:transparent\; color:rgb(20\, 22\, 23)\; font-family:times new roman\,serif\; font-size:12pt">&nbsp\;</span><span style="background-color:transparent\; color:rgb(17\, 85\, 204)\; font-family:times new roman\,serif\; font-size:12pt"><a href="http://boxfactoryforthearts.org/" style="color: rgb(17\, 85\, 204)\;" target="_blank">boxfactoryforthearts.org</a></span><span style="background-color:transparent\; color:rgb(17\, 85\, 204)\; font-family:times new roman\,serif\; font-size:12pt">&nbsp\;</span><span style="background-color:transparent\; color:rgb(20\, 22\, 23)\; font-family:times new roman\,serif\; font-size:12pt">or be a friend on Facebook.</span>&nbsp\;&nbsp\;</p>\n
LOCATION:
UID:e.3583.20897
SEQUENCE:3
DTSTAMP:20260422T163958Z
URL:https://business.harborcountry.org/events/details/char-jones-the-freedom-band-20897
END:VEVENT

END:VCALENDAR
