BEGIN:VCALENDAR
VERSION:2.0
PRODID:-//ChamberMaster//Event Calendar 2.0//EN
METHOD:PUBLISH
X-PUBLISHED-TTL:P3D
REFRESH-INTERVAL:P3D
CALSCALE:GREGORIAN
BEGIN:VEVENT
DTSTART:20260315T200000Z
DTEND:20260315T230000Z
X-MICROSOFT-CDO-ALLDAYEVENT:FALSE
SUMMARY:Coastline Children's Film Festival: Duck Soup and Three Ages with Dr. Larry Schanker
DESCRIPTION:Coastline Children's Film Festival returns to The Acorn presenting Duck Soup and Three Ages with live improvisational piano music by Dr. Larry Schanker.
X-ALT-DESC;FMTTYPE=text/html:<span style="color:rgb(64\, 64\, 64)\; font-family:open sans\,sans-serif\; font-size:15.36px">Coastline Children&rsquo\;s Film Festival returns to The Acorn presenting Duck Soup and Three Ages with live improvisational piano music by Dr. Larry Schanker.</span>
LOCATION:The Acorn\, 107 Generations Drive in Three Oaks\, MI
UID:e.3583.20894
SEQUENCE:3
DTSTAMP:20260422T164154Z
URL:https://business.harborcountry.org/events/details/coastline-children-s-film-festival-duck-soup-and-three-ages-with-dr-larry-schanker-20894
END:VEVENT

END:VCALENDAR
