BEGIN:VCALENDAR
VERSION:2.0
PRODID:-//ChamberMaster//Event Calendar 2.0//EN
METHOD:PUBLISH
X-PUBLISHED-TTL:P3D
REFRESH-INTERVAL:P3D
CALSCALE:GREGORIAN
BEGIN:VEVENT
DTSTART:20260502T160000Z
DTEND:20260502T220000Z
X-MICROSOFT-CDO-ALLDAYEVENT:FALSE
SUMMARY:Derby Day Party at Tabor Hill Winery
DESCRIPTION:Get ready to don your finest Derby attire and join us for a spectacular Derby Day Party at Tabor Hill Winery & Restaurant! Experience the charm and excitement of the Kentucky Derby in Southwest Michigan\, complete with exceptional wine\, delicious bites\, and lively festivities.
X-ALT-DESC;FMTTYPE=text/html:<span style="font-size:14px"><span style="color:rgb(32\, 31\, 32)\; font-family:uniform regular\,sans-serif">Get ready to don your finest Derby attire and join us for a spectacular Derby Day Party at Tabor Hill Winery &amp\; Restaurant! Experience the charm and excitement of the Kentucky Derby in Southwest Michigan\, complete with exceptional wine\, delicious bites\, and lively festivities.</span></span><br />\n<br />\n&nbsp\;
LOCATION:Tabor Hill Winery | Vineyard Lounge
UID:e.3583.21062
SEQUENCE:3
DTSTAMP:20260422T180518Z
URL:https://business.harborcountry.org/events/details/derby-day-party-at-tabor-hill-winery-21062
END:VEVENT

END:VCALENDAR
