BEGIN:VCALENDAR
VERSION:2.0
PRODID:-//ChamberMaster//Event Calendar 2.0//EN
METHOD:PUBLISH
X-PUBLISHED-TTL:P3D
REFRESH-INTERVAL:P3D
CALSCALE:GREGORIAN
BEGIN:VEVENT
DTSTART:20260214T140000Z
DTEND:20260214T180000Z
X-MICROSOFT-CDO-ALLDAYEVENT:FALSE
SUMMARY:Gather & Community Market
DESCRIPTION:Friends of New Troy's Indoor Community Market season kicks off Saturday\, September 13\, with new hours: 9:00 a.m.   1:00 p.m. Join us in the Multi-Purpose Room of the New Troy Community Center to shop\, eat\, and connect with your neighbors!\n\n\n\nYou'll find local makers\, crafters\, and merchants offering unique goods and handmade treasures\, as well as September's Meal Deal of a warm bowl of five pepper chili\, sourdough bread\, and your choice of water or pop. This market meal will be lovingly prepared by community center volunteers\, with the proceeds helping fund a much-needed new roof for the Center.
X-ALT-DESC;FMTTYPE=text/html:<span style="color: rgb(8\, 8\, 9)\; font-family: &quot\;Segoe UI Historic&quot\;\, &quot\;Segoe UI&quot\;\, Helvetica\, Arial\, sans-serif\; font-size: 16.875px\; background-color: rgb(255\, 255\, 255)\;">Friends of New Troy&rsquo\;s Indoor Community Market season kicks off Saturday\, September 13\, with new hours: 9:00 a.m. &ndash\; 1:00 p.m. Join us in the Multi-Purpose Room of the New Troy Community Center to shop\, eat\, and connect with your neighbors!</span><br class="html-br" style="color: rgb(8\, 8\, 9)\; font-family: &quot\;Segoe UI Historic&quot\;\, &quot\;Segoe UI&quot\;\, Helvetica\, Arial\, sans-serif\; font-size: 16.875px\; background-color: rgb(255\, 255\, 255)\;" />\n<br class="html-br" style="color: rgb(8\, 8\, 9)\; font-family: &quot\;Segoe UI Historic&quot\;\, &quot\;Segoe UI&quot\;\, Helvetica\, Arial\, sans-serif\; font-size: 16.875px\; background-color: rgb(255\, 255\, 255)\;" />\n<span style="color: rgb(8\, 8\, 9)\; font-family: &quot\;Segoe UI Historic&quot\;\, &quot\;Segoe UI&quot\;\, Helvetica\, Arial\, sans-serif\; font-size: 16.875px\; background-color: rgb(255\, 255\, 255)\;">You&rsquo\;ll find local makers\, crafters\, and merchants offering unique goods and handmade treasures\, as well as September&rsquo\;s Meal Deal of a warm bowl of five pepper chili\, sourdough bread\, and your choice of water or pop. This market meal will be lovingly prepared by community center volunteers\, with the proceeds helping fund a much-needed new roof for the Center.</span>
LOCATION:Friends of New Troy Community Center 13372 California Road New Troy
UID:e.3583.19859
SEQUENCE:3
DTSTAMP:20260422T164106Z
URL:https://business.harborcountry.org/events/details/gather-community-market-02-14-2026-19859
END:VEVENT

END:VCALENDAR
