BEGIN:VCALENDAR
VERSION:2.0
PRODID:-//ChamberMaster//Event Calendar 2.0//EN
METHOD:PUBLISH
X-PUBLISHED-TTL:P3D
REFRESH-INTERVAL:P3D
CALSCALE:GREGORIAN
BEGIN:VEVENT
DTSTART:20260612T233000Z
DTEND:20260613T020000Z
X-MICROSOFT-CDO-ALLDAYEVENT:FALSE
SUMMARY:GhostLight Theatre presents Next to Normal
DESCRIPTION:Next to Normal:  Diana Goodman is a suburban mom struggling with bipolar disorder. Her daughter\, Natalie\, is a stressed-out overachiever about to snap. And Dan\, her exhausted architect husband\, is determined to keep everything "normal." As Diana's symptoms worsen\, and effective treatment remains elusive\, the Goodmans must finally connect and learn how to see each other for who they truly are. This Tony Award- and Pulitzer Prize-winning "feel-everything" (The New York Times) musical is a cathartic and empathetic masterpiece of modern musical theatre with soaring rock music and unforgettable characters. \n\n\n\nContent Advisory: Please note that Next to Normal includes depictions of various mental health conditions and disorders including bipolar disorder\, anxiety\, and grief. The production also includes depictions and discussion of drug use\, self-harm\, death\, and medical trauma.
X-ALT-DESC;FMTTYPE=text/html:<div>\n<div>\n<p><span style="color:rgb(0\, 0\, 0)">Next to Normal:&nbsp\; Diana Goodman is a suburban mom struggling with bipolar disorder. Her daughter\, Natalie\, is a stressed-out overachiever about to snap. And Dan\, her exhausted architect husband\, is determined to keep everything &ldquo\;normal.&rdquo\; As Diana&rsquo\;s symptoms worsen\, and effective treatment remains elusive\, the Goodmans must finally connect and learn how to see each other for who they truly are. This Tony Award- and Pulitzer Prize-winning &quot\;feel-everything&quot\;&nbsp\;(</span><em>The New York Times</em><span style="color:rgb(0\, 0\, 0)">) musical is a cathartic and empathetic masterpiece of modern musical theatre with soaring rock music and unforgettable characters.&nbsp\;</span></p>\n\n<p><br />\n<strong><em>Content Advisory:&nbsp\;<span style="color:rgb(0\, 0\, 0)">Please note that&nbsp\;</span>Next to Normal&nbsp\;<span style="color:rgb(0\, 0\, 0)">includes depictions of various mental health conditions and disorders including bipolar disorder\, anxiety\, and grief. The production also includes depictions and discussion of drug use\, self-harm\, death\, and medical trauma.</span></em></strong></p>\n</div>\n\n<div>&nbsp\;</div>\n\n<div>\n<div><br />\n&nbsp\;</div>\n</div>\n</div>\n\n<div>&nbsp\;</div>\n
LOCATION:GhostLight Theatre 101 Hinkley Street Benton Harbor\, MI 49022
UID:e.3583.20872
SEQUENCE:3
DTSTAMP:20260422T214938Z
URL:https://business.harborcountry.org/events/details/ghostlight-theatre-presents-next-to-normal-06-12-2026-20872
END:VEVENT

END:VCALENDAR
