BEGIN:VCALENDAR
VERSION:2.0
PRODID:-//ChamberMaster//Event Calendar 2.0//EN
METHOD:PUBLISH
X-PUBLISHED-TTL:P3D
REFRESH-INTERVAL:P3D
CALSCALE:GREGORIAN
BEGIN:VEVENT
DTSTART:20260201T020000Z
DTEND:20260201T032000Z
X-MICROSOFT-CDO-ALLDAYEVENT:FALSE
SUMMARY:Hairball
DESCRIPTION:As Hairball celebrates 25 years\, they continue to deliver their signature\, electrifying homage to the biggest names in 80s arena rock.  Fans will be blown away by their flawless recreations of Van Halen\, KISS\, Motley Crue\, Queen\, and more\, complete with larger-than-life pyrotechnics\, lights\, and pure rock energy!  For a quarter of a century\, Hairball has been more than just a concert\, it's an immersive Rock & Roll spectacle that captures the spirit of an era.  Get ready for a night that will hit you like a freight train and leave you wanting more!
X-ALT-DESC;FMTTYPE=text/html:<span style="background-color:rgb(129\, 16\, 34)\; color:rgb(254\, 254\, 254)\; font-family:helvetica neue\,helvetica\,roboto\,arial\,sans-serif\; font-size:22px">As Hairball celebrates 25 years\, they continue to deliver their signature\, electrifying homage to the biggest names in 80s arena rock. &nbsp\;Fans will be blown away by their flawless recreations of Van Halen\, KISS\, Motley Crue\, Queen\, and more\, complete with larger-than-life pyrotechnics\, lights\, and pure rock energy! &nbsp\;For a quarter of a century\, Hairball has been more than just a concert\, it&rsquo\;s an immersive Rock &amp\; Roll spectacle that captures the spirit of an era. &nbsp\;Get ready for a night that will hit you like a freight train and leave you wanting more!</span>
LOCATION:Silver Creek Event Center Four Winds Casino New Buffalo 11111 Wilson Road New Buffalo\, MI 49117
UID:e.3583.20046
SEQUENCE:3
DTSTAMP:20260422T182621Z
URL:https://business.harborcountry.org/events/details/hairball-20046
END:VEVENT

END:VCALENDAR
