BEGIN:VCALENDAR
VERSION:2.0
PRODID:-//ChamberMaster//Event Calendar 2.0//EN
METHOD:PUBLISH
X-PUBLISHED-TTL:P3D
REFRESH-INTERVAL:P3D
CALSCALE:GREGORIAN
BEGIN:VEVENT
DTSTART:20241124T160000Z
DTEND:20241124T200000Z
X-MICROSOFT-CDO-ALLDAYEVENT:FALSE
SUMMARY:Holiday Mini Markets at Tabor Hill Winery & Restaurant
DESCRIPTION:Celebrate the holiday season at Tabor Hill's Mini Winter Market! Explore a curated selection of local artisan vendors offering unique gifts\, handcrafted goods\, and seasonal treats. Sip your favorite Tabor Hill wine\, find the perfect holiday gifts\, and enjoy a festive day out with friends and family.\n\nLearn more at: https://taborhill.com/event/wintermarkets
X-ALT-DESC;FMTTYPE=text/html:<span style="color:rgb(32\, 31\, 32)\; font-family:uniform regular\,sans-serif\; font-size:20px">Celebrate the holiday season at Tabor Hill&rsquo\;s Mini Winter Market! Explore a curated selection of local artisan vendors offering unique gifts\, handcrafted goods\, and seasonal treats. Sip your favorite Tabor Hill wine\, find the perfect holiday gifts\, and enjoy a festive day out with friends and family.<br />\nLearn more at: https://taborhill.com/event/wintermarkets</span>
LOCATION:Tabor Hill Winery & Restaurant | 185 Mt. Tabor Rd\, Buchanan\, Mi. 49107
UID:e.3583.16043
SEQUENCE:3
DTSTAMP:20260422T110352Z
URL:https://business.harborcountry.org/events/details/holiday-mini-markets-at-tabor-hill-winery-restaurant-11-24-2024-16043
END:VEVENT

END:VCALENDAR
