BEGIN:VCALENDAR
VERSION:2.0
PRODID:-//ChamberMaster//Event Calendar 2.0//EN
METHOD:PUBLISH
X-PUBLISHED-TTL:P3D
REFRESH-INTERVAL:P3D
CALSCALE:GREGORIAN
BEGIN:VEVENT
DTSTART:20260220T230000Z
DTEND:20260221T030000Z
X-MICROSOFT-CDO-ALLDAYEVENT:FALSE
SUMMARY:It’s Complicated: A Post-Valentine Comedy Night at Round Barn Brewery & Public House
DESCRIPTION:Whether Valentine's went perfectly\, terribly\, or somewhere in between\, this is the perfect way to unwind with great drinks\, table service\, and a night of comedy that doesn't take itself too seriously.\n\n\nDoors and table service open at 6 pm EST\, with the show starting at 7 pm EST.\n\nTicket Details | $20\n\n  Ticket includes entry only\n\n  Tickets purchased together will sit together at the same table\n\n  Important: Event is 21+
X-ALT-DESC;FMTTYPE=text/html:<h3><span style="font-size:13px">Whether Valentine&rsquo\;s went perfectly\, terribly\, or somewhere in between\, this is the perfect way to unwind with great drinks\, table service\, and a night of comedy that doesn&rsquo\;t take itself too seriously.</span></h3>\n\n<div>\n<p>Doors and table service open at 6 pm EST\, with the show starting at 7 pm EST.</p>\n\n<p><span style="font-family:uniform bold\,sans-serif">Ticket Details | $20</span><br />\n&bull\; Ticket includes entry only<br />\n&bull\; Tickets purchased together will sit together at the same table<br />\n&bull\; Important: Event is 21+</p>\n</div>\n
LOCATION:Round Barn Brewery & Public House
UID:e.3583.20218
SEQUENCE:3
DTSTAMP:20260422T183038Z
URL:https://business.harborcountry.org/events/details/it-s-complicated-a-post-valentine-comedy-night-at-round-barn-brewery-public-house-20218
END:VEVENT

END:VCALENDAR
