BEGIN:VCALENDAR
VERSION:2.0
PRODID:-//ChamberMaster//Event Calendar 2.0//EN
METHOD:PUBLISH
X-PUBLISHED-TTL:P3D
REFRESH-INTERVAL:P3D
CALSCALE:GREGORIAN
BEGIN:VEVENT
DTSTART:20260504T150000Z
DTEND:20260504T230000Z
X-MICROSOFT-CDO-ALLDAYEVENT:FALSE
SUMMARY:Links for Education Golf Outing at Lost Dunes Golf Club
DESCRIPTION:Tee off at one of the most exclusive courses in the country   and make a lasting impact while you're at it.\n\n\n\nJoin us for an unforgettable day at Lost Dunes Golf Club\, where pristine fairways\, championship-level play\, and first-class hospitality come together for a powerful purpose. For as little as $500 per golfer\, you'll enjoy a full day on the greens with carts and caddies\, lunch\, and an awards celebration featuring drinks and appetizers   all while supporting Bridgman Public Schools. It's rare access to an extraordinary course\, paired with the opportunity to invest in the future of our community.\nRegistration is now open for the Links for Education Golf Outing at Lost Dunes Golf Club.\n\nSpots are limited and this exclusive event will sell out quickly   secure your foursome today. In addition to an unforgettable day on one of the country's premier private courses\, local businesses have the opportunity to gain valuable visibility through sponsorships that support Bridgman Public Schools.\n\nJoin us on the course\, showcase your business\, and invest in our community   all in one exceptional day.
X-ALT-DESC;FMTTYPE=text/html:<strong>Tee off at one of the most exclusive courses in the country &mdash\; and make a lasting impact while you&rsquo\;re at it.</strong><br />\n<br />\nJoin us for an <a href="http://bridgmanfoundation.org/golf">unforgettable day</a> at Lost Dunes Golf Club\, where pristine fairways\, championship-level play\, and first-class hospitality come together for a powerful purpose. For as little as $500 per golfer\, you&rsquo\;ll enjoy a full day on the greens with carts and caddies\, lunch\, and an awards celebration featuring drinks and appetizers &mdash\; all while supporting Bridgman Public Schools. It&rsquo\;s rare access to an extraordinary course\, paired with the opportunity to invest in the future of our community.\n<p><strong><a href="http://bridgmanfoundation.org/golf">Registration is now open</a> for the Links for Education Golf Outing at Lost Dunes Golf Club.</strong></p>\n\n<p>Spots are limited and this exclusive event will sell out quickly &mdash\; secure your foursome today. In addition to an unforgettable day on one of the country&rsquo\;s premier private courses\, local businesses have the opportunity to gain valuable visibility through sponsorships that support Bridgman Public Schools.</p>\n\n<p>Join us on the course\, showcase your business\, and invest in our community &mdash\; all in one exceptional day.</p>\n
LOCATION:Lost Dunes Golf Club
UID:e.3583.20899
SEQUENCE:3
DTSTAMP:20260422T201143Z
URL:https://business.harborcountry.org/events/details/links-for-education-golf-outing-at-lost-dunes-golf-club-20899
END:VEVENT

END:VCALENDAR
