BEGIN:VCALENDAR
VERSION:2.0
PRODID:-//ChamberMaster//Event Calendar 2.0//EN
METHOD:PUBLISH
X-PUBLISHED-TTL:P3D
REFRESH-INTERVAL:P3D
CALSCALE:GREGORIAN
BEGIN:VEVENT
DTSTART:20260214T020000Z
DTEND:20260214T032000Z
X-MICROSOFT-CDO-ALLDAYEVENT:FALSE
SUMMARY:Little River Band
DESCRIPTION:Little River Band garnered huge chart success with multi-platinum albums and chart-topping hits in the 70's and 80's. . Their worldwide album\, CD\, and digital downloads amass to more than 350 million. LRB continues to deliver distinctive harmonies and vocal abilities under the direction of 44 year LRB veteran\, lead vocalist and bass player Wayne Nelson.  To date\, Wayne has contributed his talents on 24 of Little River Band's albums/CDs. LRB was honorably dubbed "the best signing band in the world." by Eagles founding member\, the late Glenn Frey.  Little River Band has undergone an evolution or two since its origins as an Australian rock band hungry to make it in America. Fans nostalgic for such tunes as "Reminiscing" or "Lady" can join us to hear the current incarnation for a night of fantastic music\, memories and more.\n\nFun Facts: LRB was the first band to have Top 10 Hits for 6 consecutive years! Their song "Reminiscing" has garnered over 5 million air plays on American radio\, with "Lady" following close behind with over 4 million air plays. In September 2015\, the band was awarded Casino Entertainer of the Year at the G2E Gaming Expo in Las Vegas.
X-ALT-DESC;FMTTYPE=text/html:<p>Little River Band garnered huge chart success with multi-platinum albums and chart-topping hits in the 70&rsquo\;s and 80&rsquo\;s. . Their worldwide album\, CD\, and digital downloads amass to more than 350 million. LRB continues to deliver distinctive harmonies and vocal abilities under the direction of 44 year LRB veteran\, lead vocalist and bass player Wayne Nelson.&nbsp\; To date\, Wayne has contributed his talents on 24 of Little River Band&rsquo\;s albums/CDs. LRB was honorably dubbed &ldquo\;the best signing band in the world.&rdquo\; by Eagles founding member\, the late Glenn Frey.&nbsp\; Little River Band has undergone an evolution or two since its origins as an Australian rock band hungry to make it in America. Fans nostalgic for such tunes as &ldquo\;Reminiscing&rdquo\; or &ldquo\;Lady&rdquo\; can join us to hear the current incarnation for a night of fantastic music\, memories and more.</p>\n\n<p>Fun Facts:&nbsp\;LRB was the first band to have Top 10 Hits for 6 consecutive years!&nbsp\;Their song &ldquo\;Reminiscing&rdquo\; has garnered over 5 million air plays on American radio\, with &ldquo\;Lady&rdquo\; following close behind with over 4 million air plays. In September 2015\, the band was awarded Casino Entertainer of the Year at the G2E Gaming Expo in Las Vegas.</p>\n
LOCATION:Silver Creek Event Center Four Winds Casino New Buffalo 11111 Wilson Road New Buffalo\, MI 49117
UID:e.3583.20045
SEQUENCE:3
DTSTAMP:20260422T163757Z
URL:https://business.harborcountry.org/events/details/little-river-band-20045
END:VEVENT

END:VCALENDAR
