BEGIN:VCALENDAR
VERSION:2.0
PRODID:-//ChamberMaster//Event Calendar 2.0//EN
METHOD:PUBLISH
X-PUBLISHED-TTL:P3D
REFRESH-INTERVAL:P3D
CALSCALE:GREGORIAN
BEGIN:VEVENT
DTSTART:20260322T230000Z
DTEND:20260323T020000Z
X-MICROSOFT-CDO-ALLDAYEVENT:FALSE
SUMMARY:Open Mic Night featuring Jack Cunningham
DESCRIPTION:The spotlight is yours. Experience the energy of our creative community on the legendary\n\nAcorn stage. Whether you're a seasoned pro sharing new work or a rising local talent making\n\nyour debut\, our professional sound system and world-class acoustics ensure every note hits\n\n\nhome.\n\n\nSupport emerging talent. Find your new favorite local artists to follow. Join us for a\n\ncurated showcase that gives our community's most promising voices a platform to connect with an appreciative audience.\n\n \n\n\nJack Cunningham is a singer/songwriter from NW Indiana. Jack has made a name for himself in\n\nthe area with his strong\, passionate voice and poetic songwriting. Influenced by artists like Peter\n\nGabriel\, the Police and Pearl Jam\, his acoustic-based sound is centered around beautiful\n\nmelodies and strong lyrical content that tells a story\, while sparking imagination and\n\ninterpretation. Jack can be seen performing all over NW Indiana and SW Michigan\, playing\n\n100+ shows a year.
X-ALT-DESC;FMTTYPE=text/html:<div>The spotlight is yours. Experience the energy of our creative community on the legendary</div>\n\n<div>Acorn stage. Whether you&rsquo\;re a seasoned pro sharing new work or a rising local talent making</div>\n\n<div>your debut\, our professional sound system and world-class acoustics ensure every note hits</div>\n\n<div>\n<p>home.</p>\n</div>\n\n<div>Support emerging talent. Find your new favorite local artists to follow. Join us for a</div>\n\n<div>curated showcase that gives our community&rsquo\;s most promising voices a platform to connect with an appreciative audience.<br />\n&nbsp\;</div>\n\n<div>\n<div>Jack Cunningham is a singer/songwriter from NW Indiana. Jack has made a name for himself in</div>\n\n<div>the area with his strong\, passionate voice and poetic songwriting. Influenced by artists like Peter</div>\n\n<div>Gabriel\, the Police and Pearl Jam\, his acoustic-based sound is centered around beautiful</div>\n\n<div>melodies and strong lyrical content that tells a story\, while sparking imagination and</div>\n\n<div>interpretation. Jack can be seen performing all over NW Indiana and SW Michigan\, playing</div>\n\n<div>100+ shows a year.</div>\n</div>\n
LOCATION:The Acorn\, 107 Generations Drive in Three Oaks\, MI
UID:e.3583.20895
SEQUENCE:3
DTSTAMP:20260422T163621Z
URL:https://business.harborcountry.org/events/details/open-mic-night-featuring-jack-cunningham-20895
END:VEVENT

END:VCALENDAR
