BEGIN:VCALENDAR
VERSION:2.0
PRODID:-//ChamberMaster//Event Calendar 2.0//EN
METHOD:PUBLISH
X-PUBLISHED-TTL:P3D
REFRESH-INTERVAL:P3D
CALSCALE:GREGORIAN
BEGIN:VEVENT
DTSTART:20260226T170000Z
DTEND:20260226T230000Z
X-MICROSOFT-CDO-ALLDAYEVENT:FALSE
SUMMARY:Par and Pour: A Masters Viewing Party at Tabor Hill Winery & Restaurant
DESCRIPTION:Step into the tradition and elegance of golf's most iconic tournament at our Par and Pour: A Masters Watch Party at Tabor Hill Winery & Restaurant. From the first tee shot to the final putt\, enjoy a relaxed atmosphere\, exceptional wine\, and delicious dishes designed for lingering all afternoon. It's the perfect way to gather\, unwind\, and enjoy tournament tradition together.
X-ALT-DESC;FMTTYPE=text/html:<span style="color:rgb(32\, 31\, 32)\; font-family:uniform regular\,sans-serif\; font-size:20px">Step into the tradition and elegance of golf&rsquo\;s most iconic tournament at our Par and Pour: A Masters Watch Party at Tabor Hill Winery &amp\; Restaurant. From the first tee shot to the final putt\, enjoy a relaxed atmosphere\, exceptional wine\, and delicious dishes designed for lingering all afternoon. It&rsquo\;s the perfect way to gather\, unwind\, and enjoy tournament tradition together.</span>
LOCATION:Tabor Hill Winery & Restaurant
UID:e.3583.20905
SEQUENCE:3
DTSTAMP:20260422T163118Z
URL:https://business.harborcountry.org/events/details/par-and-pour-a-masters-viewing-party-at-tabor-hill-winery-restaurant-20905
END:VEVENT

END:VCALENDAR
