BEGIN:VCALENDAR
VERSION:2.0
PRODID:-//ChamberMaster//Event Calendar 2.0//EN
METHOD:PUBLISH
X-PUBLISHED-TTL:P3D
REFRESH-INTERVAL:P3D
CALSCALE:GREGORIAN
BEGIN:VEVENT
DTSTART:20260122T220000Z
DTEND:20260123T000000Z
X-MICROSOFT-CDO-ALLDAYEVENT:FALSE
SUMMARY:Read in Night with Top Shelf Book Club
DESCRIPTION:Calling all book lovers! Join us for Read in Night\, a complimentary\, bring-your-own-book evening hosted with Top Shelf Book Club at Solasta Winery.\n\nThis is a relaxed\, pressure-free night no assigned reading required. Bring the book you're currently reading (or the one you've been meaning to start)\, settle into a cozy atmosphere\, and enjoy a peaceful night where you can feel social while still enjoying quiet time.
X-ALT-DESC;FMTTYPE=text/html:<div class="xdj266r x14z9mp xat24cr x1lziwak x1vvkbs" style="margin-inline: 0px\; overflow-wrap: break-word\; margin-bottom: 0px\; margin-top: 0px\; font-family: &quot\;Segoe UI Historic&quot\;\, &quot\;Segoe UI&quot\;\, Helvetica\, Arial\, sans-serif\; color: rgb(8\, 8\, 9)\; font-size: 16.875px\;">Calling all book lovers! Join us for Read in Night\, a complimentary\, bring-your-own-book evening hosted with Top Shelf Book Club at Solasta Winery.</div>\n\n<div class="x14z9mp xat24cr x1lziwak x1vvkbs xtlvy1s" style="margin-inline: 0px\; overflow-wrap: break-word\; margin-bottom: 0px\; margin-top: 0.5em\; font-family: &quot\;Segoe UI Historic&quot\;\, &quot\;Segoe UI&quot\;\, Helvetica\, Arial\, sans-serif\; color: rgb(8\, 8\, 9)\; font-size: 16.875px\;">This is a relaxed\, pressure-free night&mdash\;no assigned reading required. Bring the book you&rsquo\;re currently reading (or the one you&rsquo\;ve been meaning to start)\, settle into a cozy atmosphere\, and enjoy a peaceful night where you can feel social while still enjoying quiet time.</div>\n\n<div class="x14z9mp xat24cr x1lziwak x1vvkbs xtlvy1s" style="margin-inline: 0px\; overflow-wrap: break-word\; margin-bottom: 0px\; margin-top: 0.5em\; font-family: &quot\;Segoe UI Historic&quot\;\, &quot\;Segoe UI&quot\;\, Helvetica\, Arial\, sans-serif\; color: rgb(8\, 8\, 9)\; font-size: 16.875px\;">&nbsp\;</div>\n
LOCATION:Solasta Winery 11945 Red Arrow Hwy Sawyer
UID:e.3583.20162
SEQUENCE:3
DTSTAMP:20260422T182908Z
URL:https://business.harborcountry.org/events/details/read-in-night-with-top-shelf-book-club-20162
END:VEVENT

END:VCALENDAR
