BEGIN:VCALENDAR
VERSION:2.0
PRODID:-//ChamberMaster//Event Calendar 2.0//EN
METHOD:PUBLISH
X-PUBLISHED-TTL:P3D
REFRESH-INTERVAL:P3D
CALSCALE:GREGORIAN
BEGIN:VEVENT
DTSTART:20260509T150000Z
DTEND:20260510T220000Z
X-MICROSOFT-CDO-ALLDAYEVENT:FALSE
SUMMARY:Sangria Party at Round Barn Winery & Estate
DESCRIPTION:Celebrate the return of warmer days at our annual Sangria Party\, one of Round Barn's most anticipated events of the year. This vibrant weekend features refreshing sangria pours\, live music\, and the lively vineyard energy guests love. Mark your calendar\, grab your crew\, and get ready to raise a glass...Sangria Party is back!\n\n\n\nTo learn more about this event\, visit https://roundbarn.com/event/sangriaparty
X-ALT-DESC;FMTTYPE=text/html:Celebrate the return of warmer days at our annual Sangria Party\, one of Round Barn&rsquo\;s most anticipated events of the year. This vibrant weekend features refreshing sangria pours\, live music\, and the lively vineyard energy guests love. Mark your calendar\, grab your crew\, and get ready to raise a glass...Sangria Party is back!<br />\n<br />\nTo learn more about this event\, visit&nbsp\;https://roundbarn.com/event/sangriaparty&nbsp\;
LOCATION:Round Barn Winery & Estate
UID:e.3583.20143
SEQUENCE:3
DTSTAMP:20260422T183141Z
URL:https://business.harborcountry.org/events/details/sangria-party-at-round-barn-winery-estate-05-09-2026-20143
END:VEVENT

END:VCALENDAR
