BEGIN:VCALENDAR
VERSION:2.0
PRODID:-//ChamberMaster//Event Calendar 2.0//EN
METHOD:PUBLISH
X-PUBLISHED-TTL:P3D
REFRESH-INTERVAL:P3D
CALSCALE:GREGORIAN
BEGIN:VEVENT
DTSTART:20251206T180000Z
DTEND:20251206T210000Z
X-MICROSOFT-CDO-ALLDAYEVENT:FALSE
SUMMARY:Sippin' Strings Saturdays with Kyle Hurd at Round Barn Winery & Estate
DESCRIPTION:Every other Saturday\, the Round Barn comes alive with the sounds of local\, solo artists during the Sippin' Strings Saturdays Live Music Series. Spend the afternoon soaking in acoustic performances while enjoying the cozy ambiance and your favorite Round Barn beverages.
X-ALT-DESC;FMTTYPE=text/html:<span style="color:rgb(43\, 55\, 62)\; font-family:-apple-system\,system-ui\,blinkmacsystemfont\,aptos\,roboto\,segoe ui\,helvetica\,arial\,sans-serif\,apple color emoji\,segoe ui emoji\,segoe ui symbol\; font-size:18px">Every other Saturday\, the Round Barn comes alive with the sounds of local\, solo artists during the Sippin&#39\; Strings Saturdays Live Music Series. Spend the afternoon soaking in acoustic performances while enjoying the cozy ambiance and your favorite Round Barn beverages.</span>
LOCATION:Every other Saturday\, the Round Barn comes alive with the sounds of local\, solo artists during the Sippin' Strings Saturdays Live Music Series.
UID:e.3583.20052
SEQUENCE:3
DTSTAMP:20260422T214922Z
URL:https://business.harborcountry.org/events/details/sippin-strings-saturdays-with-kyle-hurd-at-round-barn-winery-estate-20052
END:VEVENT

END:VCALENDAR
