BEGIN:VCALENDAR
VERSION:2.0
PRODID:-//ChamberMaster//Event Calendar 2.0//EN
METHOD:PUBLISH
X-PUBLISHED-TTL:P3D
REFRESH-INTERVAL:P3D
CALSCALE:GREGORIAN
BEGIN:VEVENT
DTSTART:20260503T140000Z
DTEND:20260503T200000Z
X-MICROSOFT-CDO-ALLDAYEVENT:FALSE
SUMMARY:Spring Artisan Market- May 3rd
DESCRIPTION:?? Villwocks Outdoor Living Artisan Market ??\n\n\n\nJoin us for our NEW outdoor Artisan Market at Villwocks Outdoor Living! This open-air market will feature local artisans\, makers\, small businesses\, and food trucks in a beautiful garden center setting.\n\n\n\n?? Sundays | 10 AM   4 PM\n\n  May 3\n\n  June 28\n\n  September 6\n\n\n\n?? Applications Open for June 28th & Sept. 6th\n\nWe are now accepting applications for artisans\, creators\, small businesses\, and food trucks. This is a great opportunity to showcase your products\, connect with the community\, and be part of a curated outdoor market experience.\n\n\n\n?? Apply to be a vendor here:\n\nhttps://forms.gle/fuztkosDThUjzbCX7\n\n\n\n?? Villwocks Outdoor Living\n\n8008 M-139\, Berrien Springs\, MI
X-ALT-DESC;FMTTYPE=text/html:?? Villwocks Outdoor Living Artisan Market ??<br />\n<br />\nJoin us for our NEW outdoor Artisan Market at Villwocks Outdoor Living! This open-air market will feature local artisans\, makers\, small businesses\, and food trucks in a beautiful garden center setting.<br />\n<br />\n?? Sundays | 10 AM &ndash\; 4 PM<br />\n&bull\; May 3<br />\n&bull\; June 28<br />\n&bull\; September 6<br />\n<br />\n?? Applications Open for June 28th &amp\; Sept. 6th<br />\nWe are now accepting applications for artisans\, creators\, small businesses\, and food trucks. This is a great opportunity to showcase your products\, connect with the community\, and be part of a curated outdoor market experience.<br />\n<br />\n?? Apply to be a vendor here:<br />\nhttps://forms.gle/fuztkosDThUjzbCX7<br />\n<br />\n?? Villwocks Outdoor Living<br />\n8008 M-139\, Berrien Springs\, MI
LOCATION:8008 M-139\, Berrien Springs MI 49103
UID:e.3583.21827
SEQUENCE:3
DTSTAMP:20260421T165441Z
URL:https://business.harborcountry.org/events/details/spring-artisan-market-may-3rd-21827
END:VEVENT

END:VCALENDAR
