BEGIN:VCALENDAR
VERSION:2.0
PRODID:-//ChamberMaster//Event Calendar 2.0//EN
METHOD:PUBLISH
X-PUBLISHED-TTL:P3D
REFRESH-INTERVAL:P3D
CALSCALE:GREGORIAN
BEGIN:VEVENT
DTSTART:20260215T010000Z
DTEND:20260215T040000Z
X-MICROSOFT-CDO-ALLDAYEVENT:FALSE
SUMMARY:The Chicago Experience
DESCRIPTION:The Chicago Experience is just as it sounds   a group of musicians who call Chicago home\, and who share a love for the music of one of the greatest rock n' roll bands of all time... Chicago. Together\, the band recreates the sound and feel of Chicago's music\, whose hit songs have touched generations of fans spanning several decades.
X-ALT-DESC;FMTTYPE=text/html:<span style="background-color:transparent\; color:rgb(0\, 0\, 0)\; font-family:arial\,sans-serif\; font-size:11pt">The Chicago Experience is just as it sounds &ndash\; a group of musicians who call Chicago home\, and who share a love for the music of one of the greatest rock n&rsquo\; roll bands of all time... Chicago. Together\, the band recreates the sound and feel of Chicago&rsquo\;s music\, whose hit songs have touched generations of fans spanning several decades. </span>
LOCATION:The Acorn\, 107 Generations Drive in Three Oaks\, MI
UID:e.3583.20216
SEQUENCE:3
DTSTAMP:20260422T182432Z
URL:https://business.harborcountry.org/events/details/the-chicago-experience-20216
END:VEVENT

END:VCALENDAR
