BEGIN:VCALENDAR
VERSION:2.0
PRODID:-//ChamberMaster//Event Calendar 2.0//EN
METHOD:PUBLISH
X-PUBLISHED-TTL:P3D
REFRESH-INTERVAL:P3D
CALSCALE:GREGORIAN
BEGIN:VEVENT
DTSTART:20260222T020000Z
DTEND:20260222T032000Z
X-MICROSOFT-CDO-ALLDAYEVENT:FALSE
SUMMARY:The Phil Collins Story
DESCRIPTION:A Monumental Tribute to One of Music's Greatest Icons\n\nThe team that brought you the smash hit tour The Simon & Garfunkel Story and R.E.S.P.E.C.T.   The Aretha Franklin Story has done it again with an all-new docu-concert: The Phil Collins Story! Chronicling his remarkable chart-topping time with Genesis to his multi-Grammy winning solo career to his Academy Award-winning work for Disney\, The Phil Collins Story brings the artist's distinctive music to life in a way that resonates with audiences both visually and emotionally up close and personal. This fully produced immersive musical journey stars talent from around the world and features intricate lighting design\, state-of-the-art audio and dynamic projections. From the initial downbeat to the closing cymbal choke\, the beat goes on with The Phil Collins Story!
X-ALT-DESC;FMTTYPE=text/html:<p><em>A Monumental Tribute to One of Music&rsquo\;s Greatest Icons</em></p>\n\n<p>The team that brought you the smash hit tour The Simon &amp\; Garfunkel Story and R.E.S.P.E.C.T. &ndash\; The Aretha Franklin Story has done it again with an all-new docu-concert:&nbsp\;The Phil Collins Story! Chronicling his remarkable chart-topping time with Genesis to his multi-Grammy winning solo career to his Academy Award-winning work for Disney\,&nbsp\;The Phil Collins Story brings the artist&rsquo\;s distinctive music to life in a way that resonates with audiences both visually and emotionally&mdash\;up close and personal. This fully produced immersive musical journey stars talent from around the world and features intricate lighting design\, state-of-the-art audio and dynamic projections. From the initial downbeat to the closing cymbal choke\, the beat goes on with&nbsp\;The Phil Collins Story!</p>\n
LOCATION:Silver Creek Event Center Four Winds Casino New Buffalo 11111 Wilson Road New Buffalo\, MI 49117
UID:e.3583.20044
SEQUENCE:3
DTSTAMP:20260422T163847Z
URL:https://business.harborcountry.org/events/details/the-phil-collins-story-20044
END:VEVENT

END:VCALENDAR
