BEGIN:VCALENDAR
VERSION:2.0
PRODID:-//ChamberMaster//Event Calendar 2.0//EN
METHOD:PUBLISH
X-PUBLISHED-TTL:P3D
REFRESH-INTERVAL:P3D
CALSCALE:GREGORIAN
BEGIN:VEVENT
DTSTART:20251202T230000Z
DTEND:20251203T010000Z
X-MICROSOFT-CDO-ALLDAYEVENT:FALSE
SUMMARY:Villwocks Christmas Container Workshop
DESCRIPTION:We will be creating containers that beautiful\, personal\, and thoughtful. Whether you're a seasoned crafter or just getting started\, this workshop is inclusive of everyone. Throughout the workshop\, we'll provide all you need to put together a container filled with holiday greens and decorations. You'll also learn some creative tips and tricks to make your containers stand out\, and of course\, have some fun in the process!
X-ALT-DESC;FMTTYPE=text/html:<span style="color: rgb(34\, 34\, 34)\; font-family: Arial\, Helvetica\, sans-serif\; font-size: small\;">We will be creating containers that beautiful\, personal\, and thoughtful. Whether you&rsquo\;re a seasoned crafter or just getting started\, this workshop is inclusive of everyone.&nbsp\;Throughout the workshop\, we&rsquo\;ll provide all you need to put together a container filled with holiday greens and decorations. You&rsquo\;ll also learn some creative tips and tricks to make your containers stand out\, and of course\, have some fun in the process!</span>
LOCATION:8008 M139 Berrien Springs
UID:e.3583.15626
SEQUENCE:3
DTSTAMP:20260422T200742Z
URL:https://business.harborcountry.org/events/details/villwocks-christmas-container-workshop-15626
END:VEVENT

END:VCALENDAR
