BEGIN:VCALENDAR
VERSION:2.0
PRODID:-//ChamberMaster//Event Calendar 2.0//EN
METHOD:PUBLISH
X-PUBLISHED-TTL:P3D
REFRESH-INTERVAL:P3D
CALSCALE:GREGORIAN
BEGIN:VEVENT
DTSTART:20260214T010000Z
DTEND:20260214T040000Z
X-MICROSOFT-CDO-ALLDAYEVENT:FALSE
SUMMARY:Weird Valentine’s Day
DESCRIPTION:Five melancholic indie-think-music artists are joining forces to help you sit in your heartbreak this Valentine's Day. Whether you are happily taken\, jilted\, hung out to dry\, or just plain lonely\, why not ditch the holiday and hurt your own feelings? \n\n \n\nFeaturing rising stars Spencer LaJoye\, Kyle Joe\, Sammie Hershock\, Kylee Phillips and Chris DuPont.
X-ALT-DESC;FMTTYPE=text/html:<p><span style="background-color:transparent\; color:rgb(0\, 0\, 0)\; font-family:arial\,sans-serif\; font-size:11pt">Five melancholic indie-think-music artists are joining forces to help you sit in your heartbreak this Valentine&rsquo\;s Day. Whether you are happily taken\, jilted\, hung out to dry\, or just plain lonely\, why not ditch the holiday and hurt your own feelings?&nbsp\;</span></p>\n\n<p>&nbsp\;</p>\n\n<p><span style="background-color:transparent\; color:rgb(0\, 0\, 0)\; font-family:arial\,sans-serif\; font-size:11pt">Featuring rising stars Spencer LaJoye\, Kyle Joe\, Sammie Hershock\, Kylee Phillips and Chris DuPont.</span></p>\n\n<div>&nbsp\;</div>\n
LOCATION:The Acorn\, 107 Generations Drive in Three Oaks\, MI
UID:e.3583.20215
SEQUENCE:3
DTSTAMP:20260422T182743Z
URL:https://business.harborcountry.org/events/details/weird-valentine-s-day-20215
END:VEVENT

END:VCALENDAR
